BEGIN:VCALENDAR
VERSION:2.0
PRODID:-//Lorde Nelson - ECPv6.15.17.1//NONSGML v1.0//EN
CALSCALE:GREGORIAN
METHOD:PUBLISH
X-WR-CALNAME:Lorde Nelson
X-ORIGINAL-URL:https://www.lordenelson.com.br
X-WR-CALDESC:Eventos para Lorde Nelson
REFRESH-INTERVAL;VALUE=DURATION:PT1H
X-Robots-Tag:noindex
X-PUBLISHED-TTL:PT1H
BEGIN:VTIMEZONE
TZID:America/Maceio
BEGIN:STANDARD
TZOFFSETFROM:-0300
TZOFFSETTO:-0300
TZNAME:-03
DTSTART:20250101T000000
END:STANDARD
END:VTIMEZONE
BEGIN:VEVENT
DTSTART;TZID=America/Maceio:20260314T200000
DTEND;TZID=America/Maceio:20260315T020000
DTSTAMP:20260421T051746
CREATED:20260227T231025Z
LAST-MODIFIED:20260315T000935Z
UID:59438-1773518400-1773540000@www.lordenelson.com.br
SUMMARY:Batalha Pop
DESCRIPTION:Batalha Pop \nBandas:\n– Parabrisas \n– Divas Rock  \nA casa abre às 20 horas \nOs ingressos serão vendidos até o dia 14/03/2026 às 19:30 ou enquanto durarem os estoques.
URL:https://www.lordenelson.com.br/evento/batalha-pop/
LOCATION:Lorde Nelson Rest Pub\, Rua Silvério Jorge\, 241\, Jaraguá\, Maceió\, Alagoas\, 57022-110\, Brasil
CATEGORIES:Live Sound
ATTACH;FMTTYPE=image/png:https://www.lordenelson.com.br/wp-content/uploads/2026/02/Card_Batalha-Pop_02-1.png
END:VEVENT
END:VCALENDAR